BEGIN:VCALENDAR
VERSION:2.0
PRODID:-//Microsoft Corporation//Outlook 11.0 MIMEDIR//EN
METHOD:PUBLISH
BEGIN:VEVENT
CLASS:PUBLIC
CATEGORIES:Music
DTSTAMP:20260419122447Z
UID:vernonchorale2603281930-1776601487@choralarts-newengland.org
DTSTART:20260328T233000Z
DTEND:20260329T013000Z
SUMMARY:Vernon Chorale: \"Eternity\"
LOCATION:First Congregational Church of Vernon UCC\, 695 Hartford Turnpike\,
  Vernon CT 06066
URL:http://www.vernonchorale.org
DESCRIPTION:A Reunion Concert featuring Vernon Chorale Alumni For more information\,
  call 860-375-0545 email info@vernonchorale.org.
END:VEVENT
END:VCALENDAR
