BEGIN:VCALENDAR
VERSION:2.0
PRODID:-//Microsoft Corporation//Outlook 11.0 MIMEDIR//EN
METHOD:PUBLISH
BEGIN:VEVENT
CLASS:PUBLIC
CATEGORIES:Music
DTSTAMP:20260423163414Z
UID:vermontchoralunion2512211600-1776962054@choralarts-newengland.org
DTSTART:20251221T210000Z
DTEND:20251221T230000Z
SUMMARY:The Vermont Choral Union: \"Handel's Messiah\"
LOCATION:Holy Angels Church\, 245 Lake Street\, St Albans VT 05478
URL:http://www.vtchoralunion.org
DESCRIPTION:George Frideric Handel: Messiah. Eric Milnes\, Music Director. With
  Montréal's two-time Juno Award-winning baroque Ensemble L'Harmonie des
  saisons. For more information\, call 802-989-7355 email
  info@vtchoralunion.org.
END:VEVENT
END:VCALENDAR
