BEGIN:VCALENDAR
VERSION:2.0
PRODID:-//Microsoft Corporation//Outlook 11.0 MIMEDIR//EN
METHOD:PUBLISH
BEGIN:VEVENT
CLASS:PUBLIC
CATEGORIES:Music
DTSTAMP:20260424124930Z
UID:southhadleychoralehampshireyoungpeopleschorus2603151500-1777034970@choralarts-newengland.org
DTSTART:20260315T190000Z
DTEND:20260315T210000Z
SUMMARY:South Hadley Chorale / Hampshire Young People's Chorus: \"Gloria!\"
LOCATION:Abbey Chapel\, Mount Holyoke College\, College Street\, South Hadley MA
  01075
URL:http://www.southhadleychorale.org
DESCRIPTION:Antonio Vivaldi: Gloria\; plus a selection of inspiring and beautiful
  spirituals and more. Anita Anderson Cooper\, conductor. With orchestra.
  The Chorale is pleased to feature the Hampshire Young People's Chorus\,
  under the direction of K.C. Conlon\, as its special guest. For more
  information\, call 413-533-3833 email mail@southhadleychorale.org.
END:VEVENT
END:VCALENDAR
