BEGIN:VCALENDAR
VERSION:2.0
PRODID:-//Microsoft Corporation//Outlook 11.0 MIMEDIR//EN
METHOD:PUBLISH
BEGIN:VEVENT
CLASS:PUBLIC
CATEGORIES:Music
DTSTAMP:20260424084200Z
UID:coroallegro2511161500-1777020120@choralarts-newengland.org
DTSTART:20251116T200000Z
DTEND:20251116T220000Z
SUMMARY:Coro Allegro: \"Eternal Light\"
LOCATION:Church Of The Covenant\, 67 Newbury Street\, Boston MA 02116
URL:http://www.coroallegro.org
DESCRIPTION:Louis Vierne: Messe solennelle\; Morten Lauridsen: Lux Aeterna\; Ilyas
  Iliya: Avoonan Dbishmayy (a cappella setting of the Lord’s Prayer in
  Aramaic)\; Brenda Portman: Scherzo (for organ). Jerrick Cavangaro\,
  organ\; Jerrick Cavangaro\, organ. For more information\, call
  781-929-3707 email rmiller@coroallegro.org.
END:VEVENT
END:VCALENDAR
