BEGIN:VCALENDAR
VERSION:2.0
PRODID:-//Microsoft Corporation//Outlook 11.0 MIMEDIR//EN
METHOD:PUBLISH
BEGIN:VEVENT
CLASS:PUBLIC
CATEGORIES:Music
DTSTAMP:20260419170852Z
UID:collegiumancora2510191600-1776618532@choralarts-newengland.org
DTSTART:20251019T200000Z
DTEND:20251019T220000Z
SUMMARY:Collegium Ancora: \"Music of the Spheres: Celebrating the 400th
  Anniversary of Orlando Gibbons\"
LOCATION:Grace Episcopal Church\, 300 Westminster Street\, Providence RI 02903
URL:http://www.collegiumancora.org/
DESCRIPTION:Sacred and secular works from 17th-century England. For more
  information\, email collegiumancora@gmail.com.
END:VEVENT
END:VCALENDAR
