BEGIN:VCALENDAR
VERSION:2.0
PRODID:-//Microsoft Corporation//Outlook 11.0 MIMEDIR//EN
METHOD:PUBLISH
BEGIN:VEVENT
CLASS:PUBLIC
CATEGORIES:Music
DTSTAMP:20260421201222Z
UID:bostonsymphonyorchestraloreleiensemble2510021930-1776802342@choralarts-newengland.org
DTSTART:20251002T233000Z
DTEND:20251003T013000Z
SUMMARY:Boston Symphony Orchestra / Lorelei Ensemble: \"Debussy and Mahler\"
LOCATION:Symphony Hall\, 301 Massachusetts Avenue\, Boston MA 02115
URL:http://www.bso.org/events/oct-2-4-debussy-mahler
DESCRIPTION:Claude Debussy: Nocturnes\; Gustav Mahler: Symphony No. 4. Nikola
  Hillebrand\, soprano\; Andris Nelsons\, conductor. For more information\,
  call 617-266-1492 email customerservice@bso.org.
END:VEVENT
END:VCALENDAR
