BEGIN:VCALENDAR
VERSION:2.0
PRODID:-//Microsoft Corporation//Outlook 11.0 MIMEDIR//EN
METHOD:PUBLISH
BEGIN:VEVENT
CLASS:PUBLIC
CATEGORIES:Music
DTSTAMP:20260422070754Z
UID:assabetvalleymastersingers2603081530-1776841674@choralarts-newengland.org
DTSTART:20260308T193000Z
DTEND:20260308T213000Z
SUMMARY:Assabet Valley Mastersingers: \"Lest We Forget\"
LOCATION:Robert R. Jay Performing Arts Center\, 378 Main St\, Shrewsbury MA 01545
URL:http://www.avmsingers.org/
DESCRIPTION:James Whitbourn: Annelies (based on Anne Frank: The Diary of a Young
  Girl). Jess Huetteman\, soprano. With full orchestra. This concert stands
  as a tribute to Holocaust survivors honoring voices of resilience\,
  memory\, and hope. Tickets: $25 general admission\, $20 senior/student\,
  children under 12 free with accompanying adult. For more information\,
  call 314-495-2258 email manager@avmsingers.org.
END:VEVENT
END:VCALENDAR
