BEGIN:VCALENDAR
VERSION:2.0
PRODID:-//Microsoft Corporation//Outlook 11.0 MIMEDIR//EN
METHOD:PUBLISH
BEGIN:VEVENT
CLASS:PUBLIC
CATEGORIES:Music
DTSTAMP:20260422070921Z
UID:assabetvalleymastersingers2601311300-1776841761@choralarts-newengland.org
DTSTART:20260131T180000Z
DTEND:20260131T200000Z
SUMMARY:Assabet Valley Mastersingers: \"Vocal Workshop - The Regulated Voice\,
  with Sonja DuToit Tengblad\"
LOCATION:First Congregational Church\, 19 Church Road\, Shrewsbury MA 01545
URL:http://www.avmsingers.org
DESCRIPTION:Soprano Sonja DuToit Tengblad leads a workshop for singers to learn how
  our nervous system talks to us\, with quick\, fun tools we can feed it to
  optimize it. We can carry these learned skills into singing and any
  endeavor with which we want to feel more regulation\, ease and
  confidence. Tickets: $20. For more information\, email
  manager@avmsingers.org.
END:VEVENT
END:VCALENDAR
