BEGIN:VCALENDAR
VERSION:2.0
PRODID:-//Microsoft Corporation//Outlook 11.0 MIMEDIR//EN
METHOD:PUBLISH
BEGIN:VEVENT
CLASS:PUBLIC
CATEGORIES:Music
DTSTAMP:20260422033614Z
UID:assabetvalleymastersingers2512141530-1776828974@choralarts-newengland.org
DTSTART:20251214T203000Z
DTEND:20251214T223000Z
SUMMARY:Assabet Valley Mastersingers\, Inc: \"Messiah Sing\"
LOCATION:Congregational Church Of Westborough\, 57 W Main Street\, Westborough MA
  01581
URL:http://www.avmsingers.org
DESCRIPTION:Open sing with the Assabet Valley Mastersingers. Emma Robertson\,
  soprano\; Katherine Lerner Lee\, mezzosoprano\; Brendan Buckley\, tenor\;
  David Small\, baritone\; Brett Maguire\, organ\; Dr. Robert Eaton\,
  director. For more information\, email manager@avmsingers.org.
END:VEVENT
END:VCALENDAR
