BEGIN:VCALENDAR
VERSION:2.0
PRODID:-//Microsoft Corporation//Outlook 11.0 MIMEDIR//EN
METHOD:PUBLISH
BEGIN:VEVENT
CLASS:PUBLIC
CATEGORIES:Music
DTSTAMP:20260419140543Z
UID:andoverchoralsociety2602011500-1776607543@choralarts-newengland.org
DTSTART:20260201T200000Z
DTEND:20260201T220000Z
SUMMARY:Andover Choral Society: \"Magnificat: From Baroque to Jazz\"
LOCATION:Universalist Unitarian Church\, 15 Kenoza Avenue\, Haverhill MA 01830
URL:http://andoverchoralsociety.org/
DESCRIPTION:Carl Philipp Emmanuel Bach: The Magnificat\; Christoph Schönherr:
  Magnificat: The Groovy Version of OX. Tickets: $25 advance\, $30 at the
  door\, $10 students. For more information\, call 603-893-5636 email
  info@andoverchoralsociety.org.
END:VEVENT
END:VCALENDAR
